BEGIN:VCALENDAR
VERSION:2.0
PRODID:-//wp-events-plugin.com//7.0.0.1//EN
TZID:Europe/Vienna
X-WR-TIMEZONE:Europe/Vienna
BEGIN:VEVENT
UID:45@oetb-linz.at
DTSTART;TZID=Europe/Vienna:20221213T170000
DTEND;TZID=Europe/Vienna:20221213T180000
DTSTAMP:20221124T103650Z
URL:https://www.oetb-linz.at/vereinsleben/weihnachtsturnstunde-rg-minis/
SUMMARY:Weihnachtsturnstunde RG Minis
DESCRIPTION:
LOCATION:Vereinsturnhalle Prunerstraße\, Prunerstraße 6\, Linz\, Oberöst
 erreiche\, 4020\, Österreich
X-APPLE-STRUCTURED-LOCATION;VALUE=URI;X-ADDRESS=Prunerstraße 6\, Linz\, Ob
 erösterreiche\, 4020\, Österreich;X-APPLE-RADIUS=100;X-TITLE=Vereinsturn
 halle Prunerstraße:geo:0,0
END:VEVENT
BEGIN:VTIMEZONE
TZID:Europe/Vienna
X-LIC-LOCATION:Europe/Vienna
BEGIN:STANDARD
DTSTART:20221030T020000
TZOFFSETFROM:+0200
TZOFFSETTO:+0100
TZNAME:CET
END:STANDARD
END:VTIMEZONE
END:VCALENDAR