BEGIN:VCALENDAR
VERSION:2.0
PRODID:-//wp-events-plugin.com//7.0.0.1//EN
TZID:Europe/Vienna
X-WR-TIMEZONE:Europe/Vienna
BEGIN:VEVENT
UID:64@oetb-linz.at
DTSTART;TZID=Europe/Vienna:20230504T090000
DTEND;TZID=Europe/Vienna:20230504T153000
DTSTAMP:20230410T125911Z
URL:https://www.oetb-linz.at/vereinsleben/trainingstag-wettkampfturnen-kad
 er-05-2023/
SUMMARY:Trainingstag Wettkampfturnen Kader 05/2023
DESCRIPTION:Gemeinsamer Trainingstag für alle Kader-Wettkampfturner*innen\
 n\nBeginn: 9 Uhr\, Ende 17 Uhr\n\nAnmeldung unter https://mein.oetb-linz.a
 t/kurs/buche/7588
CATEGORIES:Wettkampfturnen / Turn10
LOCATION:Vereinsturnhalle Prunerstraße\, Prunerstraße 6\, Linz\, Oberöst
 erreiche\, 4020\, Österreich
X-APPLE-STRUCTURED-LOCATION;VALUE=URI;X-ADDRESS=Prunerstraße 6\, Linz\, Ob
 erösterreiche\, 4020\, Österreich;X-APPLE-RADIUS=100;X-TITLE=Vereinsturn
 halle Prunerstraße:geo:0,0
END:VEVENT
BEGIN:VTIMEZONE
TZID:Europe/Vienna
X-LIC-LOCATION:Europe/Vienna
BEGIN:DAYLIGHT
DTSTART:20230326T030000
TZOFFSETFROM:+0100
TZOFFSETTO:+0200
TZNAME:CEST
END:DAYLIGHT
END:VTIMEZONE
END:VCALENDAR